BEGIN:VCALENDAR
VERSION:2.0
PRODID:-//TOP RACING - ECPv6.15.20//NONSGML v1.0//EN
CALSCALE:GREGORIAN
METHOD:PUBLISH
X-WR-CALNAME:TOP RACING
X-ORIGINAL-URL:https://topracing.es
X-WR-CALDESC:Eventos para TOP RACING
REFRESH-INTERVAL;VALUE=DURATION:PT1H
X-Robots-Tag:noindex
X-PUBLISHED-TTL:PT1H
BEGIN:VTIMEZONE
TZID:UTC
BEGIN:STANDARD
TZOFFSETFROM:+0000
TZOFFSETTO:+0000
TZNAME:UTC
DTSTART:20200101T000000
END:STANDARD
END:VTIMEZONE
BEGIN:VEVENT
DTSTART;TZID=UTC:20210425T000000
DTEND;TZID=UTC:20210425T235900
DTSTAMP:20260422T071133
CREATED:20210216T134157Z
LAST-MODIFIED:20210218T105410Z
UID:3758-1619308800-1619395140@topracing.es
SUMMARY:CTO COMUNIDAD DE MADRID DE TRIAL
DESCRIPTION:Segunda prueba puntuable para el campeonato de la comunidad de Madrid de trial.
URL:https://topracing.es/event/carrera-venturada/
LOCATION:Venturada\, helipuerto\, Venturada\, Madrid\, 28729\, España
CATEGORIES:topracing
ATTACH;FMTTYPE=image/jpeg:https://topracing.es/wp-content/uploads/2016/08/NEWS_3.jpg
END:VEVENT
END:VCALENDAR