BEGIN:VCALENDAR
VERSION:2.0
PRODID:-//TOP RACING - ECPv6.15.20//NONSGML v1.0//EN
CALSCALE:GREGORIAN
METHOD:PUBLISH
X-ORIGINAL-URL:https://topracing.es
X-WR-CALDESC:Eventos para TOP RACING
REFRESH-INTERVAL;VALUE=DURATION:PT1H
X-Robots-Tag:noindex
X-PUBLISHED-TTL:PT1H
BEGIN:VTIMEZONE
TZID:UTC
BEGIN:STANDARD
TZOFFSETFROM:+0000
TZOFFSETTO:+0000
TZNAME:UTC
DTSTART:20200101T000000
END:STANDARD
END:VTIMEZONE
BEGIN:VEVENT
DTSTART;VALUE=DATE:20211002
DTEND;VALUE=DATE:20211004
DTSTAMP:20260421T033225
CREATED:20210208T153814Z
LAST-MODIFIED:20210303T130630Z
UID:3493-1633132800-1633305599@topracing.es
SUMMARY:COPA DE ESPAÑA DE TRIAL CLASICO
DESCRIPTION:Categorías:\nPre-75 Amarillos\n\n\n\nPre-75 Amarillos (solo Sabado)\n\n\n\nPre-75 Amarillos (solo Domingo)\n\n\n\nClásicos\n\n\n\nClásicos (solo Sabado)\n\n\n\nClásicos (solo Domingo)\n\n\n\nPre-80 Verdes\n\n\n\nPre-80 Verdes (solo Sabado)\n\n\n\nPre-80 Verdes (solo Domingo)\n\n\n\nTrialeros\n\n\n\nTrialeros (solo Sabado)\n\n\n\nTrialeros (solo Domingo)\n\n\n\nExpertos\n\n\n\nExpertos (solo Sabado)\n\n\n\nExpertos (solo Domingo)
URL:https://topracing.es/event/carrera-clasica-02-oct/
LOCATION:Robregordo\, Robregordo\, Madrid\, España
CATEGORIES:topracing
ATTACH;FMTTYPE=image/jpeg:https://topracing.es/wp-content/uploads/2016/08/NEWS_1.jpg
END:VEVENT
END:VCALENDAR